BEGIN:VCALENDAR
VERSION:2.0
PRODID:icalendar-ruby
CALSCALE:GREGORIAN
METHOD:PUBLISH
BEGIN:VTIMEZONE
TZID:Australia/Brisbane
BEGIN:STANDARD
DTSTART:19920301T020000
TZOFFSETFROM:+1100
TZOFFSETTO:+1000
TZNAME:AEST
END:STANDARD
END:VTIMEZONE
BEGIN:VEVENT
DTSTAMP:20200228T122348Z
UID:inspection_725731
DTSTART;TZID=Australia/Brisbane:20200229T110000
DTEND;TZID=Australia/Brisbane:20200229T113000
CLASS:PUBLIC
CREATED:20200227T063903
DESCRIPTION: 
LAST-MODIFIED:20200227T063903
LOCATION:Unit 29 / 5-9 Grant Road\, MORAYFIELD QLD 4506\, Australia
SUMMARY:Unit 29 / 5-9 Grant Road\,  Inspection
URL:https://www.allaroundrealty.com.au/
END:VEVENT
END:VCALENDAR
