BEGIN:VCALENDAR
VERSION:2.0
PRODID:icalendar-ruby
CALSCALE:GREGORIAN
METHOD:PUBLISH
BEGIN:VTIMEZONE
TZID:Australia/Brisbane
BEGIN:STANDARD
DTSTART:19920301T020000
TZOFFSETFROM:+1100
TZOFFSETTO:+1000
TZNAME:AEST
END:STANDARD
END:VTIMEZONE
BEGIN:VEVENT
DTSTAMP:20200228T122529Z
UID:inspection_726438
DTSTART;TZID=Australia/Brisbane:20200229T120000
DTEND;TZID=Australia/Brisbane:20200229T123000
CLASS:PUBLIC
CREATED:20200228T104832
DESCRIPTION: 
LAST-MODIFIED:20200228T104832
LOCATION:10 Beacon Street\, MORAYFIELD QLD 4506\, Australia
SUMMARY:10 Beacon Street\,  Inspection
URL:https://www.allaroundrealty.com.au/
END:VEVENT
END:VCALENDAR
